BEGIN:VCALENDAR
VERSION:2.0
PRODID:-//Stella&#039;s Bridal - ECPv6.9.0//NONSGML v1.0//EN
CALSCALE:GREGORIAN
METHOD:PUBLISH
X-WR-CALNAME:Stella&#039;s Bridal
X-ORIGINAL-URL:https://loveitatstellas.com
X-WR-CALDESC:Events for Stella&#039;s Bridal
REFRESH-INTERVAL;VALUE=DURATION:PT1H
X-Robots-Tag:noindex
X-PUBLISHED-TTL:PT1H
BEGIN:VTIMEZONE
TZID:America/New_York
BEGIN:DAYLIGHT
TZOFFSETFROM:-0500
TZOFFSETTO:-0400
TZNAME:EDT
DTSTART:20260308T070000
END:DAYLIGHT
BEGIN:STANDARD
TZOFFSETFROM:-0400
TZOFFSETTO:-0500
TZNAME:EST
DTSTART:20261101T060000
END:STANDARD
END:VTIMEZONE
BEGIN:VEVENT
DTSTART;VALUE=DATE:20260807
DTEND;VALUE=DATE:20260809
DTSTAMP:20260419T155004
CREATED:20260413T194245Z
LAST-MODIFIED:20260413T194405Z
UID:24203-1786060800-1786233599@loveitatstellas.com
SUMMARY:Evie Young Launch Party
DESCRIPTION:Evie Young Launch Party + “Halo” Trunk ShowAugust 7th & 8th at Stella’s Bridal\nSomething new is arriving at Stella’s and we’re celebrating in a big way. \nJoin us for the official launch of Evie Young Bridal at Stella’s\, paired with an exclusive trunk show of their newest collection\, Halo. For the first time ever\, brides will have the opportunity to experience Evie Young in-store—making this more than a trunk show… it’s the beginning of something special ✨ \nKnown for their effortlessly cool\, modern aesthetic\, Evie Young dresses are designed for brides who want fashion-forward details\, flattering silhouettes\, and a look that feels entirely their own. The Halo collection brings that vision to life with fresh textures\, unexpected elements\, and a confident\, contemporary edge. Evie Young styles start at $2000. \nFor two days only\, we’ll be showcasing the full Halo collection— and some styles won’t be available to try on again after the event. Whether you’re just starting your dress journey or ready to say yes\, this is your chance to experience a brand-new designer at Stella’s before anyone else. \nAppointments are limited—secure your spot and be part of the launch.
URL:https://loveitatstellas.com/event/evie-young-launch-party/
LOCATION:Stella’s Bridal\, 5 S. Center St.\, Westminster\, MD\, 21157\, United States
CATEGORIES:Trunk Shows
ATTACH;FMTTYPE=image/jpeg:https://loveitatstellas.com/wp-content/uploads/2026/04/Evie_Young_Launch_Party.jpg
END:VEVENT
END:VCALENDAR