BEGIN:VCALENDAR
VERSION:2.0
PRODID:-//Stella&#039;s Bridal - ECPv6.9.0//NONSGML v1.0//EN
CALSCALE:GREGORIAN
METHOD:PUBLISH
X-ORIGINAL-URL:https://loveitatstellas.com
X-WR-CALDESC:Events for Stella&#039;s Bridal
REFRESH-INTERVAL;VALUE=DURATION:PT1H
X-Robots-Tag:noindex
X-PUBLISHED-TTL:PT1H
BEGIN:VTIMEZONE
TZID:America/New_York
BEGIN:DAYLIGHT
TZOFFSETFROM:-0500
TZOFFSETTO:-0400
TZNAME:EDT
DTSTART:20250309T070000
END:DAYLIGHT
BEGIN:STANDARD
TZOFFSETFROM:-0400
TZOFFSETTO:-0500
TZNAME:EST
DTSTART:20251102T060000
END:STANDARD
BEGIN:DAYLIGHT
TZOFFSETFROM:-0500
TZOFFSETTO:-0400
TZNAME:EDT
DTSTART:20260308T070000
END:DAYLIGHT
BEGIN:STANDARD
TZOFFSETFROM:-0400
TZOFFSETTO:-0500
TZNAME:EST
DTSTART:20261101T060000
END:STANDARD
END:VTIMEZONE
BEGIN:VEVENT
DTSTART;VALUE=DATE:20250510
DTEND;VALUE=DATE:20250518
DTSTAMP:20260422T175855
CREATED:20250403T210840Z
LAST-MODIFIED:20250403T210840Z
UID:22907-1746835200-1747526399@loveitatstellas.com
SUMMARY:Mother's Day Week
DESCRIPTION:Celebrate Mom: Mother’s Day Week at Stella’s Bridal! 🌸✨ \nTreat the incredible moms in your life to something special during Mother’s Day Week at Stella’s Bridal! From May 10th-17th\, we’re offering 20% off all off-the-rack formal dresses\, making it the perfect time to help Mom find her dream gown for the big day. \n💖 A Fun & Meaningful Way to Celebrate\nMake a day of it! Plan a special outing with your mom (or future mother-in-law!) and enjoy a memorable shopping experience together. Whether she’s looking for an elegant mother of the bride or groom gown\, a chic evening look\, or something timeless\, this is the perfect chance to find the one—at an incredible price! \n✨ Upgrade the Experience! ✨\nWant to make Mom feel extra special? Don’t forget about our Mother’s Upgrades! Reserve the Mother’s Suite for a private and elevated shopping experience for your whole party. Because finding her dress should be just as unforgettable as finding yours! \nLet’s celebrate the amazing women who have supported you every step of the way 💕
URL:https://loveitatstellas.com/event/mothers-day-week/
LOCATION:Stella’s Bridal\, 5 S. Center St.\, Westminster\, MD\, 21157\, United States
CATEGORIES:Special Event
ATTACH;FMTTYPE=image/jpeg:https://loveitatstellas.com/wp-content/uploads/2025/04/MothersDayWeek.jpg
END:VEVENT
BEGIN:VEVENT
DTSTART;VALUE=DATE:20250630
DTEND;VALUE=DATE:20250801
DTSTAMP:20260422T175855
CREATED:20250530T174601Z
LAST-MODIFIED:20250616T200639Z
UID:23043-1751241600-1754006399@loveitatstellas.com
SUMMARY:The July Sale at Stella’s Bridal
DESCRIPTION:Starts July 1 • First Dibs Event June 30 \nCalling all brides-to-be! Our biggest off-the-rack sale of the year is here\, and it’s everything you’ve been waiting for. Whether you’re planning a wedding on a shorter timeline\, shopping on a budget\, or just love a great deal\, The July Sale at Stella’s Bridal is your chance to find a one-of-a-kind gown at an unbelievable price. \nFor the entire month of July\, we’re offering a stunning selection of designer wedding dresses priced in four tiers: $99\, $499\, $999\, and $1499. Every gown is off-the-rack and ready to go home the same day. These are one-of-a-kind samples\, which means there’s only one of each dress available—once it’s gone\, it’s gone! \nFrom chic and simple to dramatic and detailed\, you’ll find options for every style and every type of celebration. Whether you’re eloping\, planning a courthouse ceremony\, heading to a destination wedding\, or just keeping things intimate\, this sale is made for you. \nBut here’s the best part—you can shop the sale before anyone else during our exclusive First Dibs Event on June 30. This one-night-only event gives brides early access to the full sale collection before it opens to the public. Be the first to browse\, try on\, and claim your dream dress before the racks get picked over. \n✨ What to Know: \n\n\nSale runs July 1–31 during normal store hours \n\n\nFirst Dibs Night is on Sunday\, June 30 — Book a bridal experience now to secure your spot! \n\n\nGowns are sold off-the-rack\, in-store only\, and first come\, first serve \n\nCheck out our album of available dresses: HERE\n\nUpgrade your shopping experience with VIP Apoointment! \n\n\nThis is your chance to say YES to the dress without breaking the budget—and without waiting months for it to arrive. When each dress is one-of-a-kind\, the best finds go fast… so don’t wait! \nBook Now!
URL:https://loveitatstellas.com/event/the-july-sale-at-stellas-bridal/
LOCATION:Stella’s Bridal\, 5 S. Center St.\, Westminster\, MD\, 21157\, United States
CATEGORIES:Special Event
ATTACH;FMTTYPE=image/jpeg:https://loveitatstellas.com/wp-content/uploads/2025/05/JulySale-Cover.jpg
END:VEVENT
BEGIN:VEVENT
DTSTART;TZID=America/New_York:20250630T160000
DTEND;TZID=America/New_York:20250630T200000
DTSTAMP:20260422T175855
CREATED:20250623T154456Z
LAST-MODIFIED:20250623T154456Z
UID:23116-1751299200-1751313600@loveitatstellas.com
SUMMARY:First Dibs Night: July Sale Preview Event
DESCRIPTION:Exclusive Early Access to Our July Sale! \nReady to say yes to your dream dress at an unbeatable price? Join us for First Dibs Night—your exclusive opportunity to shop our July Sale before it opens to the public! \nDuring this special event\, you’ll have first pick of our July Sale Selection\, all offered off the rack at amazing prices starting at just $99. These dresses are final sale\, so this is truly your chance to snag a stunning gown with incredible savings. \nImportant details: \n\n\nBook your exclusive First Dibs appointment to secure your spot and enjoy personalized\, focused attention. \n\n\nYou’ll have an hour to explore our July Sale dresses during your appointment. \n\n\nBring up to 4 of your favorite people and make a celebration out of finding the one! \n\n\nSpaces for First Dibs appointments are limited and fill up fast—don’t miss your chance to get early access and claim your dream dress before anyone else! \n\nWhat’s a Sample Dress?Sample dresses are the beautiful gowns we keep on display in the boutique for brides to try on and experience in person. Because they’ve been handled\, tried on by multiple brides\, and sometimes altered slightly for display\, these dresses are sold off the rack and as-is during our sale events. This means they may show minor signs of wear or tailoring\, but they’re priced accordingly to give you incredible value on a stunning dress you can take home right away. \nBook Now!
URL:https://loveitatstellas.com/event/first-dibs-night-july-sale-preview-event/
LOCATION:Stella’s Bridal\, 5 S. Center St.\, Westminster\, MD\, 21157\, United States
CATEGORIES:Special Event
ATTACH;FMTTYPE=image/jpeg:https://loveitatstellas.com/wp-content/uploads/2025/06/BridalSalePage-02.jpg
END:VEVENT
BEGIN:VEVENT
DTSTART;VALUE=DATE:20251101
DTEND;VALUE=DATE:20251201
DTSTAMP:20260422T175855
CREATED:20250915T143754Z
LAST-MODIFIED:20250915T143754Z
UID:23487-1761955200-1764547199@loveitatstellas.com
SUMMARY:November Gratitude Month!
DESCRIPTION:November is Gratitude Month here at Stella’s\, which means we’re saying “thank you” in the best way we know how—sales\, special moments\, and giving back to our community! \n  \nYour purchase this month carries more meaning than ever. With every bridal and formalwear dress sold\, we’ll be donating $20 to Springboard Community Services — an organization that offers safe shelter and hope to families in crisis right here in Carroll County. We know that not every love story looks the same\, which is why supporting their mission means so much to ours at Stella’s. \n  \nAnd because we’re extra thankful this November\, we’re showing our gratitude with 20% off our Dress Care services all month long! ✨ That means Week-of-Wedding Steaming is just $80\, and Preservation is only $350. The best part? You can lock in these savings by prepaying in November and use them anytime down the road—so future you will be so grateful you did! \n  \nBook your appointment to come in to the store or give us a call to schedule your dress care service! \n  \n 
URL:https://loveitatstellas.com/event/november-gratitude-month-2025/
LOCATION:Stella’s Bridal\, 5 S. Center St.\, Westminster\, MD\, 21157\, United States
CATEGORIES:Special Event
ATTACH;FMTTYPE=image/jpeg:https://loveitatstellas.com/wp-content/uploads/2025/09/GratitudeMonth-2025.jpg
END:VEVENT
BEGIN:VEVENT
DTSTART;VALUE=DATE:20251107
DTEND;VALUE=DATE:20251108
DTSTAMP:20260422T175855
CREATED:20250403T204634Z
LAST-MODIFIED:20250903T201020Z
UID:22900-1762473600-1762559999@loveitatstellas.com
SUMMARY:Brides Across America
DESCRIPTION:We’re so excited to be partnering with Brides Across America – a non-profit committed to supporting one another by gifting wedding gowns to our military & first responders! We will be hosting a gown giveaway on November 7th to support their mission! \nYou qualify to register if: \n• You or your fiancé are in the military – either active duty or a veteran within the past 5 years \n•You or your fiancé are a first responder in the front line of harm’s way (EMT\, Firefighter\, Police Officer\, etc.) \n*Valid ID’s are Required* \nTo Register: \n•Visit Brides Across America HERE! \n• Find our event on November 7th and click register! \n• Once you’re registered through Brides Across America\, give us a call to pick a time for your bridal experience!
URL:https://loveitatstellas.com/event/brides-across-america-3/
LOCATION:Stella’s Bridal\, 5 S. Center St.\, Westminster\, MD\, 21157\, United States
CATEGORIES:Special Event
ATTACH;FMTTYPE=image/jpeg:https://loveitatstellas.com/wp-content/uploads/2025/04/BridesAcrossAmerica2025.jpg
END:VEVENT
BEGIN:VEVENT
DTSTART;TZID=America/New_York:20251128T170000
DTEND;TZID=America/New_York:20251128T190000
DTSTAMP:20260422T175855
CREATED:20250915T144909Z
LAST-MODIFIED:20251125T164244Z
UID:23490-1764349200-1764356400@loveitatstellas.com
SUMMARY:White Friday Sale 2025
DESCRIPTION:✨ White Friday Sale: Love it at Stella’s Bridal Shop! ✨\nBrides\, this is the sale you’ve been waiting for! On Friday\, November 28th from 5–7 PM\, join us for our White Friday Sale and take home your dream dress for just $99! Yes\, really—every single Aisle Ready dress\, even gowns once priced over $2000\, will be marked down to only $99 for two hours only! \n📍 Event Details:🗓️ Date: November 28th⏰ Time: 5–7 PM📍 Location: 5 S Center St.\, Westminster\, MD \n✨ All the Details: \n\n\nUnbeatable Deals: Every Aisle-Ready Dress is just $99—designer looks at once-in-a-lifetime prices! \n\n\nFirst-Come\, First-Serve: Arrive early for the best selection. Brides will have 15 minutes to try on up to 5 gowns—find the one that steals your heart! If you don’t find the one\, you’re welcome to hop back in line for another turn! \n\n\nLeave With Your Dress Tonight: Walk out with your gown in hand and check “Say Yes to the Dress” off your list in one magical night. \n\n\nBring your entourage\, your dream dress vision\, and get ready to celebrate saying YES at Stella’s White Friday event. Whether you’re all about the thrill of the hunt or simply love a stunning deal\, this is one bridal event you don’t want to miss! \nDresses are sold off-the-rack in as-is condition. While we take great care to maintain our samples\, there may be light wear from try-ons. This discount applies only to off-the-rack gowns and cannot be combined with other offers or applied to previous purchases or new orders.
URL:https://loveitatstellas.com/event/white-friday-sale-2025/
LOCATION:Stella’s Bridal\, 5 S. Center St.\, Westminster\, MD\, 21157\, United States
CATEGORIES:Special Event
ATTACH;FMTTYPE=image/jpeg:https://loveitatstellas.com/wp-content/uploads/2025/09/WhiteFriday2025.jpg
END:VEVENT
BEGIN:VEVENT
DTSTART;VALUE=DATE:20260320
DTEND;VALUE=DATE:20260329
DTSTAMP:20260422T175855
CREATED:20260213T182805Z
LAST-MODIFIED:20260213T185234Z
UID:23837-1773964800-1774742399@loveitatstellas.com
SUMMARY:March Mothers Sale
DESCRIPTION:💐 March Mothers Sale\nMarch 20–28 | 20% Off Off-the-Rack Mothers Dresses \nShopping for a Mother of the Bride or Groom dress? We’re making it a little sweeter with our March Mothers Sale! 🤍 \nFrom March 20–28\, enjoy 20% off all off-the-rack mother’s dresses—available in-store during regular business hours. These styles are ready to take home the same day\, making this the perfect time to find something beautiful\, comfortable\, and confidence-boosting. \nOur stylists are here to guide you every step of the way\, helping you find a look that feels just right for such a meaningful day. \n✨ Looking for even deeper discounts? Join us for Mother’s Night Out on March 27 for special one-night-only pricing. \n✔️ Appointments are required to ensure we have a dressing room and stylist available to help you shop!✔️ Available during regular store hours\n✔️ Sale price only applies to off-the-rack purchases✔️ Dresses are first come\, first serve
URL:https://loveitatstellas.com/event/march-mothers-sale/
LOCATION:Stella’s Bridal\, 5 S. Center St.\, Westminster\, MD\, 21157\, United States
CATEGORIES:Special Event
ATTACH;FMTTYPE=image/jpeg:https://loveitatstellas.com/wp-content/uploads/2026/02/MothersEvents-02.jpg
END:VEVENT
BEGIN:VEVENT
DTSTART;TZID=America/New_York:20260327T170000
DTEND;TZID=America/New_York:20260327T190000
DTSTAMP:20260422T175855
CREATED:20260213T182832Z
LAST-MODIFIED:20260320T172238Z
UID:23838-1774630800-1774638000@loveitatstellas.com
SUMMARY:Mother’s Night Out
DESCRIPTION:🌸 Mother’s Night Out With Bra-La-La\nMarch 27 | 5–7 PM \nJoin us for a special evening of shopping\, savings\, and celebration 🤍 \nDuring Mother’s Night Out\, enjoy exclusive\, one-night-only pricing on entire selection of dresses: \n• All sample dresses — $199• Discontinued styles — $49 \nPlus\, we’re excited to welcome our friends from Bra-la-la in-store that evening! They’ll be here to help mothers find the right bras and supportwear for their dress—because the right foundation makes all the difference in how you look and feel. \nTurf Valley Resort will also be joining us! For our Mom’s if you’re still shopping for a venue for the perfect bridal shower for your bride\, Turf Valley is it! Garden Party\, ballroom brunch\, or intimate tea party\, Turf Valley has the perfect vibe for your bridal events. If you’re a Bride\, Carol will be happy to tell you all about having your perfect wedding day at Turf Valley with their many venues to choose from! Carol will also be giving out champagne and treats to the first 20-30 guests! \nThis is a first-come\, first-served event with limited quantities\, so we recommend arriving early for the best selection. It’s the perfect opportunity to score an incredible dress at an unbeatable price in a fun\, relaxed atmosphere—with expert support along the way. \nWhether you’re shopping for yourself or supporting a loved one\, we’d love to welcome you for this special night. \n✨ Can’t make it that evening? You can still enjoy 20% off off-the-rack styles during our March Mothers Sale from March 20–28. \n✔️ No appointment requireds✔️ While supplies last\n✔️ Sale price only applies to off-the-rack purchases
URL:https://loveitatstellas.com/event/mothers-night-out/
LOCATION:Stella’s Bridal\, 5 S. Center St.\, Westminster\, MD\, 21157\, United States
CATEGORIES:Special Event
ATTACH;FMTTYPE=image/jpeg:https://loveitatstellas.com/wp-content/uploads/2026/02/MothersEvents-01.jpg
END:VEVENT
BEGIN:VEVENT
DTSTART;TZID=America/New_York:20260630T100000
DTEND;TZID=America/New_York:20260630T170000
DTSTAMP:20260422T175855
CREATED:20260417T173918Z
LAST-MODIFIED:20260417T173918Z
UID:24214-1782813600-1782838800@loveitatstellas.com
SUMMARY:First Dibs: July Sale Preview Event
DESCRIPTION:First Access to Our July Sale Starts Here \nIf you’ve been thinking about coming in… this is your moment. \nJoin us on Tuesday\, June 30 for exclusive early access to our July Sale — before it opens to the public. This is your chance to shop the full selection first\, when the racks are at their best and the options are wide open. \nOur July Sale features off-the-rack designer gowns priced from $99–$1499 — all one-of-a-kind\, all ready to go home with you the same day. \nNo waiting. No reorders. Just finding the one\, and taking her with you. \n✨ What to expect:• Private appointment with your stylist• One hour to shop the full July Sale selection• Up to 4 guests to celebrate with you• First pick of every gown before the sale officially begins \nBecause each dress is one-of-a-kind\, early access makes all the difference — once a gown is claimed\, it’s gone for good. \nAppointments are limited and will fill quickly. \nBook now to secure your spot. \n\nWhat’s a Sample Dress?Sample gowns are the dresses you see in-store — the ones our brides try on during appointments. Because they’ve been loved a little (tried on\, clipped\, sometimes lightly altered)\, they’re sold off-the-rack and as-is during our sale. \nThat’s what makes this event so special: you’re getting a designer gown at a significantly reduced price — with the added bonus of taking it home the same day. \nBook Now!
URL:https://loveitatstellas.com/event/first-dibs-night-july-sale-preview-event-2/
LOCATION:Stella’s Bridal\, 5 S. Center St.\, Westminster\, MD\, 21157\, United States
CATEGORIES:Special Event
ATTACH;FMTTYPE=image/jpeg:https://loveitatstellas.com/wp-content/uploads/2025/06/BridalSalePage-02.jpg
END:VEVENT
BEGIN:VEVENT
DTSTART;VALUE=DATE:20260701
DTEND;VALUE=DATE:20260801
DTSTAMP:20260422T175855
CREATED:20260417T172501Z
LAST-MODIFIED:20260417T172501Z
UID:24215-1782864000-1785542399@loveitatstellas.com
SUMMARY:The July Sale at Stella’s Bridal
DESCRIPTION:Sale Starts July 1 • First Dibs Event June 30 \nYour dress might already be here… just not for long. \nOur biggest off-the-rack event of the year is back — and if you’ve been waiting for a sign to start (or finish) your dress search\, this is it. \nFor the entire month of July\, you’ll find a curated selection of designer gowns priced at just $99\, $499\, $999\, and $1499. Every dress is off-the-rack\, one-of-a-kind\, and ready to go home with you the same day. \nNo ordering. No waiting. Just the moment. \nWhether you’re planning on a shorter timeline\, working within a budget\, or simply love the thrill of finding something incredible at an unexpected price — this is where it happens. \nAnd if you want the best selection… you’ll want in early. \nJoin us for our First Dibs Event on June 30\, where you’ll get exclusive access to shop the full collection before the sale officially begins. The racks are full\, the energy is high\, and the best dresses never stay long. \n✨ What to Know:• Sale runs July 1–31 during normal store hours• First Dibs: June 30 (appointments required)• Off-the-rack only — take your dress home that day• One of each gown — once it’s gone\, it’s gone \nWant a little more space (and a little more celebration)?Upgrade your appointment for a private suite + extra guests ✨ \nThis is the kind of yes that doesn’t wait. \nBook your appointment now.
URL:https://loveitatstellas.com/event/the-july-sale-at-stellas-bridal-2/
LOCATION:Stella’s Bridal\, 5 S. Center St.\, Westminster\, MD\, 21157\, United States
CATEGORIES:Special Event
ATTACH;FMTTYPE=image/jpeg:https://loveitatstellas.com/wp-content/uploads/2025/05/JulySale-Cover.jpg
END:VEVENT
END:VCALENDAR