BEGIN:VCALENDAR
VERSION:2.0
PRODID:-//Stella&#039;s Bridal - ECPv6.9.0//NONSGML v1.0//EN
CALSCALE:GREGORIAN
METHOD:PUBLISH
X-WR-CALNAME:Stella&#039;s Bridal
X-ORIGINAL-URL:https://loveitatstellas.com
X-WR-CALDESC:Events for Stella&#039;s Bridal
REFRESH-INTERVAL;VALUE=DURATION:PT1H
X-Robots-Tag:noindex
X-PUBLISHED-TTL:PT1H
BEGIN:VTIMEZONE
TZID:America/New_York
BEGIN:DAYLIGHT
TZOFFSETFROM:-0500
TZOFFSETTO:-0400
TZNAME:EDT
DTSTART:20240310T070000
END:DAYLIGHT
BEGIN:STANDARD
TZOFFSETFROM:-0400
TZOFFSETTO:-0500
TZNAME:EST
DTSTART:20241103T060000
END:STANDARD
END:VTIMEZONE
BEGIN:VEVENT
DTSTART;VALUE=DATE:20241101
DTEND;VALUE=DATE:20241201
DTSTAMP:20260421T133256
CREATED:20241028T175124Z
LAST-MODIFIED:20241028T175156Z
UID:22129-1730419200-1733011199@loveitatstellas.com
SUMMARY:November Gratitude Month!
DESCRIPTION:November is our Gratitude Month here at Stella’s – and we’re giving back with great sales every week! \nTo kick off the month\, we’ll be hosting a special event with Brides Across America and donating dresses to military\, veterans\, and first responders! This will be our 2nd year hosting this event\, and we’re honored to give back in this way! \nYour purchase this month will also positively impact our community right here in Carroll County! For every bridal and formalwear dress that we sell\, we will be donating $20 to our friends at Springboard Community Services – who provide safe shelter and services for families in crisis here in the community. We understand that not every marriage has a happy ending\, which is why their services are so near and dear to our mission here at Stella’s. \nMark your calendars – we’ve got a different sale each week!\nNovember 4th-9th – 25% off of Jewelry & Headpieces \nNovember 11th-16th – 25% off of Little White Dresses \nNovember 18th-23rd – 25% off of Veils & Gloves \nNovember 25th-30th – 25% off of Mother’s and Formalwear \n***Discounts only apply to off-the-rack purchases and cannot be combined with any other offer. We try our very best to keep our samples pristine – but there may be some wear from try-ons. Off-the-rack dresses are in as-is condition.*** \n  \nBook your appointment to come in to the store – you don’t want to miss out on these deals! \n  \n 
URL:https://loveitatstellas.com/event/november-gratitude-month-2/
LOCATION:MD
CATEGORIES:Special Event
ATTACH;FMTTYPE=image/jpeg:https://loveitatstellas.com/wp-content/uploads/2024/10/GratitudeMonth-05-scaled.jpg
END:VEVENT
BEGIN:VEVENT
DTSTART;TZID=America/New_York:20241101T100000
DTEND;TZID=America/New_York:20241101T170000
DTSTAMP:20260421T133256
CREATED:20240614T190503Z
LAST-MODIFIED:20240614T190503Z
UID:21397-1730455200-1730480400@loveitatstellas.com
SUMMARY:Brides Across America
DESCRIPTION:We’re so excited to be partnering with Brides Across America – a non-profit committed to supporting one another by gifting wedding gowns to our military & first responders! We will be hosting a gown giveaway on November 1st to support their mission! \nYou qualify to register if: \n• You or your fiancé are in the military – either active duty or a veteran within the past 5 years \n•You or your fiancé are a first responder in the front line of harm’s way (EMT\, Firefighter\, Police Officer\, etc.) \n•You are a hospital employed bride-to-be who has assisted in the COVID-19 pandemic \n*Valid ID’s are Required* \nTo Register: \n•Visit Brides Across America HERE! \n• Find our event on November 1st and click register! \n• Once you’re registered through Brides Across America\, give us a call to pick a time for your bridal experience!
URL:https://loveitatstellas.com/event/brides-across-america-2/
LOCATION:Stella’s Bridal\, 5 S. Center St.\, Westminster\, MD\, 21157\, United States
CATEGORIES:Special Event
ATTACH;FMTTYPE=image/jpeg:https://loveitatstellas.com/wp-content/uploads/2024/06/BridesAcrossAmericaEvent2024.jpg
END:VEVENT
END:VCALENDAR