BEGIN:VCALENDAR
VERSION:2.0
PRODID:-//Stella&#039;s Bridal - ECPv6.9.0//NONSGML v1.0//EN
CALSCALE:GREGORIAN
METHOD:PUBLISH
X-ORIGINAL-URL:https://loveitatstellas.com
X-WR-CALDESC:Events for Stella&#039;s Bridal
REFRESH-INTERVAL;VALUE=DURATION:PT1H
X-Robots-Tag:noindex
X-PUBLISHED-TTL:PT1H
BEGIN:VTIMEZONE
TZID:America/New_York
BEGIN:DAYLIGHT
TZOFFSETFROM:-0500
TZOFFSETTO:-0400
TZNAME:EDT
DTSTART:20240310T070000
END:DAYLIGHT
BEGIN:STANDARD
TZOFFSETFROM:-0400
TZOFFSETTO:-0500
TZNAME:EST
DTSTART:20241103T060000
END:STANDARD
END:VTIMEZONE
BEGIN:VEVENT
DTSTART;TZID=America/New_York:20240113T100000
DTEND;TZID=America/New_York:20240113T170000
DTSTAMP:20260422T063000
CREATED:20231204T190545Z
LAST-MODIFIED:20231204T195337Z
UID:19928-1705140000-1705165200@loveitatstellas.com
SUMMARY:Stella's Winter Experience Open House
DESCRIPTION:Join us January 13th for our Stella’s Winter Experience Open House here at Stella’s! \n2024 is our 10 year anniversary in Westminster – and we’ll be celebrating all year long! Watch us reveal our newest spring collections and sip on some hot cider and enjoy sweet treats with your bridal party! We will be unveiling our newest bridal\, formal\, and mother of the bride collections. This event is not only featuring our newest dresses\, but we’ll have a Stella York Trunkshow here as well! We have so many new and exciting things in the store – you won’t want to miss the newest styles! Walk-ins are welcome to stop by for tours and browsing – but if you’d like to try on dresses\, please schedule a bridal experience HERE. \nMore details to come! \nXOXO
URL:https://loveitatstellas.com/event/sip-n-see-open-house/
LOCATION:Stella’s Bridal\, 5 S. Center St.\, Westminster\, MD\, 21157\, United States
CATEGORIES:Special Event
ATTACH;FMTTYPE=image/jpeg:https://loveitatstellas.com/wp-content/uploads/2023/12/WinterExperience.jpg
END:VEVENT
END:VCALENDAR