BEGIN:VCALENDAR
VERSION:2.0
PRODID:-//Stella&#039;s Bridal - ECPv6.9.0//NONSGML v1.0//EN
CALSCALE:GREGORIAN
METHOD:PUBLISH
X-WR-CALNAME:Stella&#039;s Bridal
X-ORIGINAL-URL:https://loveitatstellas.com
X-WR-CALDESC:Events for Stella&#039;s Bridal
REFRESH-INTERVAL;VALUE=DURATION:PT1H
X-Robots-Tag:noindex
X-PUBLISHED-TTL:PT1H
BEGIN:VTIMEZONE
TZID:America/New_York
BEGIN:DAYLIGHT
TZOFFSETFROM:-0500
TZOFFSETTO:-0400
TZNAME:EDT
DTSTART:20240310T070000
END:DAYLIGHT
BEGIN:STANDARD
TZOFFSETFROM:-0400
TZOFFSETTO:-0500
TZNAME:EST
DTSTART:20241103T060000
END:STANDARD
END:VTIMEZONE
BEGIN:VEVENT
DTSTART;TZID=America/New_York:20241004T170000
DTEND;TZID=America/New_York:20241004T190000
DTSTAMP:20260421T133122
CREATED:20240824T172201Z
LAST-MODIFIED:20240824T172201Z
UID:21649-1728061200-1728068400@loveitatstellas.com
SUMMARY:Stella's Bridal Open House!
DESCRIPTION:You’re Invited to Stella’s Open House!\nWe are thrilled to open our doors and welcome you to Stella’s! Join us for a special Stella’s Bridal Open House event where you can explore our beautiful space and discover our selection of wedding gowns\, formal dresses\, and accessories! 💍✨ \nTake your time to browse through our collections\, get inspired by our latest styles\, and envision your dream wedding look in a relaxed and welcoming atmosphere. Whether you’re just starting your wedding planning journey or are on the hunt for that perfect dress\, our Open House is the perfect opportunity to see all that we have to offer! 🤍✨ \nDate: October 4th\nTime: 5:00-7:00PM \nNo RSVP necessary—just bring yourself\, your friends\, and your bride squad! 👰
URL:https://loveitatstellas.com/event/stellas-bridal-open-house/
LOCATION:Stella’s Bridal\, 5 S. Center St.\, Westminster\, MD\, 21157\, United States
CATEGORIES:Special Event
ATTACH;FMTTYPE=image/jpeg:https://loveitatstellas.com/wp-content/uploads/2024/08/OpenHouseEvent.jpg
END:VEVENT
END:VCALENDAR