BEGIN:VCALENDAR
VERSION:2.0
PRODID:-//Stella&#039;s Bridal - ECPv6.9.0//NONSGML v1.0//EN
CALSCALE:GREGORIAN
METHOD:PUBLISH
X-ORIGINAL-URL:https://loveitatstellas.com
X-WR-CALDESC:Events for Stella&#039;s Bridal
REFRESH-INTERVAL;VALUE=DURATION:PT1H
X-Robots-Tag:noindex
X-PUBLISHED-TTL:PT1H
BEGIN:VTIMEZONE
TZID:America/New_York
BEGIN:DAYLIGHT
TZOFFSETFROM:-0500
TZOFFSETTO:-0400
TZNAME:EDT
DTSTART:20240310T070000
END:DAYLIGHT
BEGIN:STANDARD
TZOFFSETFROM:-0400
TZOFFSETTO:-0500
TZNAME:EST
DTSTART:20241103T060000
END:STANDARD
END:VTIMEZONE
BEGIN:VEVENT
DTSTART;VALUE=DATE:20240511
DTEND;VALUE=DATE:20240519
DTSTAMP:20260421T220153
CREATED:20240325T201813Z
LAST-MODIFIED:20240430T140555Z
UID:20573-1715385600-1716076799@loveitatstellas.com
SUMMARY:Mother's Day Sale
DESCRIPTION:🌸 Mother’s Day Special: Formal Mother of the Bride Dress Sale! 🌸 \nAre you ready to celebrate Mother’s Day in style? Join us at Love it at Stella’s for an exclusive event tailored just for you! From May 11th to May 18th\, we’re delighted to announce our spectacular sale on formal mother of the bride dresses! \n👗 Discover Elegance: Explore our exquisite collection of formal dresses specially curated for the mothers of the bride and groom! Whether you’re seeking timeless sophistication\, modern chic\, or classic charm\, we have the perfect ensemble to complement your grace and style. \n🎉 Unbeatable Discounts: Enjoy irresistible discounts on our premium selection of dresses during this limited-time event. All formalwear dresses will be 20% off off-the-rack during our sale event! \n🥂 Celebrate Your Journey: Embrace this momentous occasion with your loved ones and revel in the joy of finding the perfect dress for your daughter’s special day. You can choose to upgrade your Mother’s Experience and let us pamper you with personalized service and expert guidance as you embark on this exciting journey! \n📅 Date: May 11th – May 18th \nFor inquiries and appointments\, please contact us at 443-289-8832. Let’s make this Mother’s Day one to remember!
URL:https://loveitatstellas.com/event/mothers-day-sale/
LOCATION:Stella’s Bridal\, 5 S. Center St.\, Westminster\, MD\, 21157\, United States
CATEGORIES:Special Event
ATTACH;FMTTYPE=image/jpeg:https://loveitatstellas.com/wp-content/uploads/2024/03/MothersDaySale.jpg
END:VEVENT
BEGIN:VEVENT
DTSTART;TZID=America/New_York:20240531T170000
DTEND;TZID=America/New_York:20240531T200000
DTSTAMP:20260421T220154
CREATED:20240419T155103Z
LAST-MODIFIED:20240419T191245Z
UID:20970-1717174800-1717185600@loveitatstellas.com
SUMMARY:Legacy Collection Launch Party
DESCRIPTION:You’re invited to our Legacy Collection Launch Party & Open House! \nJoin us for a celebration of love and timeless elegance as we unveil our much-anticipated Legacy Collection—a tribute to a decade of unforgettable moments and cherished memories. Each gown in this collection is named by a bride who said “yes” to her dress at our store in honor of their love story or in honor of their loved ones! \nDate: May 31st\nTime: 5 pm\nLocation: 5 S Center St. Westminster MD\, 21074 \nWe are so excited to be welcoming Bmore Linked into our store to offer permanent jewelry during the event! Bring your BFF\, sister\, mom\, daughter\, significant other\, etc and get matching styles that are meant to be worn every day for effortless style! \nWe’re also teaming up with Blackrock Weddings to plan surprises and giveaways throughout the event\, as we celebrate this milestone occasion with joy and gratitude for the love and support of our customers! Whether you’re a bride-to-be searching for the dress of your dreams or simply an admirer of bridal fashion\, this open house event promises an unforgettable experience for all. \nCome celebrate with us and be part of our legacy of love. No RSVP required! We look forward to seeing you there!
URL:https://loveitatstellas.com/event/legacy-collection-launch-party/
LOCATION:Stella’s Bridal\, 5 S. Center St.\, Westminster\, MD\, 21157\, United States
CATEGORIES:Special Event
ATTACH;FMTTYPE=image/jpeg:https://loveitatstellas.com/wp-content/uploads/2024/04/Legacy.jpg
END:VEVENT
END:VCALENDAR