BEGIN:VCALENDAR
VERSION:2.0
PRODID:-//Stella&#039;s Bridal - ECPv6.9.0//NONSGML v1.0//EN
CALSCALE:GREGORIAN
METHOD:PUBLISH
X-ORIGINAL-URL:https://loveitatstellas.com
X-WR-CALDESC:Events for Stella&#039;s Bridal
REFRESH-INTERVAL;VALUE=DURATION:PT1H
X-Robots-Tag:noindex
X-PUBLISHED-TTL:PT1H
BEGIN:VTIMEZONE
TZID:America/New_York
BEGIN:DAYLIGHT
TZOFFSETFROM:-0500
TZOFFSETTO:-0400
TZNAME:EDT
DTSTART:20230312T070000
END:DAYLIGHT
BEGIN:STANDARD
TZOFFSETFROM:-0400
TZOFFSETTO:-0500
TZNAME:EST
DTSTART:20231105T060000
END:STANDARD
END:VTIMEZONE
BEGIN:VEVENT
DTSTART;VALUE=DATE:20230513
DTEND;VALUE=DATE:20230514
DTSTAMP:20260422T175404
CREATED:20230303T221147Z
LAST-MODIFIED:20230303T221147Z
UID:18017-1683936000-1684022399@loveitatstellas.com
SUMMARY:Flower & Jazz Festival
DESCRIPTION:We’re setting up shop at the Westminster Flower and Jazz Festival! Come and visit our booth to see everything Stella’s has to offer! \nThe Flower and Jazz Festival is an annual event held in Downtown Westminster the Saturday before Mother’s Day.\nMain Street will be filled with vendors\, delectable food and flowers & herbs. It is a great event for ALL the family.\nMain Street\n10 am-4 pm: Shop with Vendors\nLibrary\n10:00am-12:00pm Twisted Blues Band\n2:00pm-4:00pm Caiso Steel Drum Band\nLocust Lane\n12:00pm-2:00pm Bluestone Jazz\nBB&T (High Schools)\n10:00am: Westminster High School\n11:00am: Sunday Night Big Band\n12:00pm: Market Street Big Band\n1:00pm: Towson High Jazz Ensemble\n2:00pm: Folly Quarter Middle School\n3:00pm: TBA\nWest End Stage\n10:00am-11:30am Kevin Burnes\n12:00pm-1:30pm Monte Leister Quartet\n2:00pm-4:00pm Mr. Jon and Friends
URL:https://loveitatstellas.com/event/flower-jazz-festival/
LOCATION:MD
CATEGORIES:Special Event
ATTACH;FMTTYPE=image/jpeg:https://loveitatstellas.com/wp-content/uploads/2023/03/UpcomingEvents-02.jpg
END:VEVENT
BEGIN:VEVENT
DTSTART;VALUE=DATE:20230515
DTEND;VALUE=DATE:20230521
DTSTAMP:20260422T175404
CREATED:20230303T222514Z
LAST-MODIFIED:20230331T192246Z
UID:18020-1684108800-1684627199@loveitatstellas.com
SUMMARY:Mother's Day Sale Event
DESCRIPTION:It’s Mother’s Day! Brides – Treat the special ladies in your life with a little extra discount off their formalwear gown! With such a wide selection of dresses in the store – we’re sure that you’ll find something that you love! From May 15th to the 20th you can enjoy 20% off your formalwear purchase! \nBrowse our ENTIRE Selection \n \nWe will also have a fabulous selection of dresses from MGNY that will only be here for the week of the event! You dont want to miss out on some of these styles! \nSCHEDULE AN APPOINTMENT
URL:https://loveitatstellas.com/event/mothers-day-sale-event/
LOCATION:Stella’s Bridal\, 5 S. Center St.\, Westminster\, MD\, 21157\, United States
CATEGORIES:Special Event
ATTACH;FMTTYPE=image/jpeg:https://loveitatstellas.com/wp-content/uploads/2023/03/UpcomingEvents-04.jpg
END:VEVENT
END:VCALENDAR